BEGIN:VCALENDAR
VERSION:2.0
CALSCALE:GREGORIAN
METHOD:PUBLISH
PRODID://TSRA//468706
BEGIN:VEVENT
DTSTAMP:20260425T121151
VTIMEZONE:America/Chicago
DTSTART:20260221T150000Z
DTEND:20260222T230000Z
UID:468706
SUMMARY:Saxet Gun Shows - McAllen
LOCATION:McAllen Convention Center, 700 Convention Center Blvd, McAllen, TX, 78501
DESCRIPTION:Saxet Gun Shows - McAllen\n\n02/21/26 09:00 AM CST\n - 02/22/26 05:00 PM CST\Details:\nSat 9-6\n\nSun 9-5\n\nEntry Fee: $8\n\nParking Fee: $Free\n\Location:\nMcAllen Convention Center\n700 Convention Center Blvd\nMcAllen, TX 78501
X-ALT-DESC;FMTTYPE=text/html:Saxet Gun Shows - McAllen<br /><br />02/21/26 09:00 AM CST - 02/22/26 05:00 PM CST<br />Details:<br /><p>Sat 9-6</p>

<p>Sun 9-5</p>

<p><strong>Entry Fee:</strong>&nbsp;$8</p>

<p><strong>Parking Fee:</strong>&nbsp;$Free</p>
<br />Location:<br />McAllen Convention Center<br />700 Convention Center Blvd<br />McAllen, TX 78501
PRIORITY:3
TRANSP:TRANSPARENT
BEGIN:VALARM
TRIGGER:-PT5M
ACTION:DISPLAY
DESCRIPTION:Reminder
END:VALARM
END:VEVENT
END:VCALENDAR
