BEGIN:VCALENDAR
VERSION:2.0
CALSCALE:GREGORIAN
METHOD:PUBLISH
PRODID://TSRA//468701
BEGIN:VEVENT
DTSTAMP:20260425T134509
VTIMEZONE:America/Chicago
DTSTART:20260808T140000Z
DTEND:20260809T220000Z
UID:468701
SUMMARY:Saxet Gun Shows - Corpus Christi
LOCATION:Richard M. Borchard Fairgrounds, 1213 Terry Shamsie Blvd, Robstown, TX, 78380
DESCRIPTION:Saxet Gun Shows - Corpus Christi\n\n08/08/26 09:00 AM CST\n - 08/09/26 05:00 PM CST\Details:\nSat 9-6\n\nSun 9-5\n\nEntry Fee: $8\n\Location:\nRichard M. Borchard Fairgrounds\n1213 Terry Shamsie Blvd\nRobstown, TX 78380
X-ALT-DESC;FMTTYPE=text/html:Saxet Gun Shows - Corpus Christi<br /><br />08/08/26 09:00 AM CST - 08/09/26 05:00 PM CST<br />Details:<br /><p>Sat 9-6</p>

<p>Sun 9-5</p>

<p><strong>Entry Fee:</strong>&nbsp;$8</p>
<br />Location:<br />Richard M. Borchard Fairgrounds<br />1213 Terry Shamsie Blvd<br />Robstown, TX 78380
PRIORITY:3
TRANSP:TRANSPARENT
BEGIN:VALARM
TRIGGER:-PT5M
ACTION:DISPLAY
DESCRIPTION:Reminder
END:VALARM
END:VEVENT
END:VCALENDAR
