BEGIN:VCALENDAR
VERSION:2.0
CALSCALE:GREGORIAN
METHOD:PUBLISH
PRODID://TSRA//468691
BEGIN:VEVENT
DTSTAMP:20260425T134649
VTIMEZONE:America/Chicago
DTSTART:20260117T150000Z
DTEND:20260118T220000Z
UID:468691
SUMMARY:Premier Gun Shows - Waco
LOCATION:BASE at Extraco Events Center, 4601 Bosque Blvd., Waco, TX, 76710
DESCRIPTION:Premier Gun Shows - Waco\n\n01/17/26 09:00 AM CST\n - 01/18/26 04:00 PM CST\Details:\nShow Size: 600 Eight-foot tables\n\nAdmission Information\n\nWeekend Pass – $10\nChildren 11 and Under – Free\nUniformed Peace Officers – Free\nMilitary Discount at Gate – $9 (cash only at gate)\n\nBUY TICKETS\n\nShow Hours\n\nSaturday: 9:00 am – 5:00 pm\nSunday: 10:00 am – 4:00 pm\n\nParking Information\n\nParking is FREE.\n\Location:\nBASE at Extraco Events Center\n4601 Bosque Blvd.\nWaco, TX 76710
X-ALT-DESC;FMTTYPE=text/html:Premier Gun Shows - Waco<br /><br />01/17/26 09:00 AM CST - 01/18/26 04:00 PM CST<br />Details:<br /><h4>Show Size:&nbsp;<strong>600 Eight-foot tables</strong></h4>

<h4>Admission Information</h4>

<p>Weekend Pass &ndash; $10<br />
Children 11 and Under &ndash; Free<br />
Uniformed Peace Officers &ndash; Free<br />
Military Discount at Gate &ndash; $9 (cash only at gate)</p>
<br />
<a href="https://premiergunshows.com/tickets/?show=Waco%20Gun%20Show">BUY TICKETS</a>

<h4>Show Hours</h4>

<p>Saturday: 9:00 am &ndash; 5:00 pm<br />
Sunday: 10:00 am &ndash; 4:00 pm</p>

<h4>Parking Information</h4>

<p>Parking is FREE.</p>
<br />Location:<br />BASE at Extraco Events Center<br />4601 Bosque Blvd.<br />Waco, TX 76710
PRIORITY:3
TRANSP:TRANSPARENT
BEGIN:VALARM
TRIGGER:-PT5M
ACTION:DISPLAY
DESCRIPTION:Reminder
END:VALARM
END:VEVENT
END:VCALENDAR
