BEGIN:VCALENDAR
VERSION:2.0
CALSCALE:GREGORIAN
METHOD:PUBLISH
PRODID://TSRA//468690
BEGIN:VEVENT
DTSTAMP:20260425T121040
VTIMEZONE:America/Chicago
DTSTART:20261121T150000Z
DTEND:20261122T220000Z
UID:468690
SUMMARY:Premier Gun Show - Pasadena
LOCATION:Pasadena Convention Center, 7902 Fairmont Parkway, Pasadena, TX, 77507
DESCRIPTION:Premier Gun Show - Pasadena\n\n11/21/26 09:00 AM CST\n - 11/22/26 04:00 PM CST\Details:\nPasadena Convention Center\n\n7902 Fairmont Parkway\n\nPasadena, TX 77507\n\nShow Size: 350 8-Foot tables\n\nAdmission Information\n\nSingle Day General Admission – $10\nWeekend Pass – $15\nMilitary Discount at Gate – $9 (cash only)\nChildren 11 and Under – Free\nUniformed Peace Officers – Free\n\nBUY TICKETS\n\nShow Hours\n\nSaturday: 9:00 am – 5:00 pm\nSunday: 10:00 am – 4:00 pm\n\nParking Information\n\nParking is free.\n\n \Location:\nPasadena Convention Center\n7902 Fairmont Parkway\nPasadena, TX 77507
X-ALT-DESC;FMTTYPE=text/html:Premier Gun Show - Pasadena<br /><br />11/21/26 09:00 AM CST - 11/22/26 04:00 PM CST<br />Details:<br /><h4>Pasadena Convention Center</h4>

<p>7902 Fairmont Parkway</p>

<p>Pasadena, TX 77507</p>

<p>Show Size:&nbsp;<strong>350 8-Foot tables</strong></p>

<h4>Admission Information</h4>

<p>Single Day General Admission &ndash; $10<br />
Weekend Pass &ndash; $15<br />
Military Discount at Gate &ndash; $9 (cash only)<br />
Children 11 and Under &ndash; Free<br />
Uniformed Peace Officers &ndash; Free</p>
<br />
<a href="https://premiergunshows.com/tickets/?show=Pasadena%20Gun%20Show">BUY TICKETS</a>

<h4>Show Hours</h4>

<p>Saturday: 9:00 am &ndash; 5:00 pm<br />
Sunday: 10:00 am &ndash; 4:00 pm</p>

<h4>Parking Information</h4>

<p>Parking is free.</p>
<br />
&nbsp;<br />Location:<br />Pasadena Convention Center<br />7902 Fairmont Parkway<br />Pasadena, TX 77507
PRIORITY:3
TRANSP:TRANSPARENT
BEGIN:VALARM
TRIGGER:-PT5M
ACTION:DISPLAY
DESCRIPTION:Reminder
END:VALARM
END:VEVENT
END:VCALENDAR
