BEGIN:VCALENDAR
VERSION:2.0
CALSCALE:GREGORIAN
METHOD:PUBLISH
PRODID://TSRA//468679
BEGIN:VEVENT
DTSTAMP:20260425T122116
VTIMEZONE:America/Chicago
DTSTART:20261017T140000Z
DTEND:20261018T210000Z
UID:468679
SUMMARY:Premier Gun Shows - New Braunfels
LOCATION:New Braunfels Civic/Convention Center, 375 S Castell Ave, New Braunfels, TX, 78130
DESCRIPTION:Premier Gun Shows - New Braunfels\n\n10/17/26 09:00 AM CST\n - 10/18/26 04:00 PM CST\Details:\nShow Size: 350 Six-foot tables\n\nAdmission Information\n\nWeekend Pass – $10\nMilitary Discount at Gate – $9 (cash only)\nChildren 11 and Under – Free\nUniformed Peace Officers – Free\n\nBUY TICKETS\n\nShow Hours\n\nSaturday: 9:00 am – 5:00 pm\nSunday: 10:00 am – 4:00 pm\n\nParking Information\n\nFREE parking is available at the New Braunfels Civic/Convention Center.\n\Location:\nNew Braunfels Civic/Convention Center\n375 S Castell Ave\nNew Braunfels, TX 78130
X-ALT-DESC;FMTTYPE=text/html:Premier Gun Shows - New Braunfels<br /><br />10/17/26 09:00 AM CST - 10/18/26 04:00 PM CST<br />Details:<br /><p>Show Size:&nbsp;<strong>350 Six-foot tables</strong></p>

<h4>Admission Information</h4>

<p>Weekend Pass &ndash; $10<br />
Military Discount at Gate &ndash; $9 (cash only)<br />
Children 11 and Under &ndash; Free<br />
Uniformed Peace Officers &ndash; Free</p>
<br />
<a href="https://premiergunshows.com/tickets/?show=New%20Braunfels%20Gun%20Show">BUY TICKETS</a>

<h4>Show Hours</h4>

<p>Saturday: 9:00 am &ndash; 5:00 pm<br />
Sunday: 10:00 am &ndash; 4:00 pm</p>

<h4>Parking Information</h4>

<p>FREE parking is available at the&nbsp;<a href="https://newbraunfels.gov/ImageRepository/Document?documentID=25224" target="_blank">New Braunfels Civic/Convention Center</a>.</p>
<br />Location:<br />New Braunfels Civic/Convention Center<br />375 S Castell Ave<br />New Braunfels, TX 78130
PRIORITY:3
TRANSP:TRANSPARENT
BEGIN:VALARM
TRIGGER:-PT5M
ACTION:DISPLAY
DESCRIPTION:Reminder
END:VALARM
END:VEVENT
END:VCALENDAR
