BEGIN:VCALENDAR
VERSION:2.0
CALSCALE:GREGORIAN
METHOD:PUBLISH
PRODID://TSRA//468666
BEGIN:VEVENT
DTSTAMP:20260425T122327
VTIMEZONE:America/Chicago
DTSTART:20260131T150000Z
DTEND:20260201T230000Z
UID:468666
SUMMARY:Premier Gun Shows - Mesquite
LOCATION:Mesquite Convention Center, 1700 Rodeo Drive, Mesquite, TX, 75149
DESCRIPTION:Premier Gun Shows - Mesquite\n\n01/31/26 09:00 AM CST\n - 02/01/26 05:00 PM CST\Details:\nShow Size: Now BIGGER than ever with 750 8-foot tables\n\nAdmission Information\n\nSingle Day General Admission – $12\n\nWeekend Pass – $17\n\nChildren 11 and Under – Free\nUniformed Peace Officers – Free\n\nBUY TICKETS\n\nShow Hours\n\nSaturday: 9:00 am – 5:00 pm\n\nSunday: 10:00 am – 4:00 pm\n\nParking Information\n\n \n\nWe have arranged FREE parking for all attendees in the Mesquite Rodeo South Lot behind the convention center. Park in the south lot for no charge. Follow the yellow PARK FREE signs to the south lot behind the convention center.\n\nIf you choose to park in the hotel parking lot, they are now charging $10 and must be paid through their kiosks or QR Codes.\n\Location:\nMesquite Convention Center\n1700 Rodeo Drive\nMesquite, TX 75149
X-ALT-DESC;FMTTYPE=text/html:Premier Gun Shows - Mesquite<br /><br />01/31/26 09:00 AM CST - 02/01/26 05:00 PM CST<br />Details:<br /><p>Show Size:&nbsp;<strong>Now BIGGER than ever with 750 8-foot tables</strong></p>

<h4>Admission Information</h4>

<p>Single Day General Admission &ndash; $12</p>

<p>Weekend Pass &ndash; $17</p>

<p>Children 11 and Under &ndash; Free<br />
Uniformed Peace Officers &ndash; Free</p>
<br />
<a href="https://premiergunshows.com/tickets/?show=Mesquite%20Gun%20Show">BUY TICKETS</a>

<h4>Show Hours</h4>

<p>Saturday: 9:00 am &ndash; 5:00 pm</p>

<p>Sunday: 10:00 am &ndash; 4:00 pm</p>

<h4>Parking Information</h4>

<p>&nbsp;</p>

<p>We have arranged FREE parking for all attendees in the Mesquite Rodeo South Lot behind the convention center. Park in the south lot for no charge. Follow the yellow PARK FREE signs to the south lot behind the convention center.</p>

<p>If you choose to park in the hotel parking lot, they are now charging $10 and must be paid through their kiosks or QR Codes.</p>
<br />Location:<br />Mesquite Convention Center<br />1700 Rodeo Drive<br />Mesquite, TX 75149
PRIORITY:3
TRANSP:TRANSPARENT
BEGIN:VALARM
TRIGGER:-PT5M
ACTION:DISPLAY
DESCRIPTION:Reminder
END:VALARM
END:VEVENT
END:VCALENDAR
