BEGIN:VCALENDAR
VERSION:2.0
CALSCALE:GREGORIAN
METHOD:PUBLISH
PRODID://TSRA//468640
BEGIN:VEVENT
DTSTAMP:20260425T120941
VTIMEZONE:America/Chicago
DTSTART:20260523T140000Z
DTEND:20260524T210000Z
UID:468640
SUMMARY:Premier Gun Shows - Frisco
LOCATION:TBD
DESCRIPTION:Premier Gun Shows - Frisco\n\n05/23/26 09:00 AM CST\n - 05/24/26 04:00 PM CST\Details:\nStay Tuned for Venue Information\n\n \n\nFrisco, TX\n\nShow Size: 600 Eight Foot Tables\n\nAdmission Information\n\nSingle Day General Admission – $10\n\nWeekend Pass – $15\n\nMilitary Discount at Gate – $9 (cash only)\nChildren 11 and Under – Free\nUniformed Peace Officers – Free\n\nBUY TICKETS\n\nShow Hours\n\nSaturday: 9:00 am – 5:00 pm\n\nSunday: 10:00 am – 4:00 pm\n\nParking Information\n\nFree Parking\n\nDirections\n\nVenue Information To Be Announced\n\Location:\nTBD\n\n,
X-ALT-DESC;FMTTYPE=text/html:Premier Gun Shows - Frisco<br /><br />05/23/26 09:00 AM CST - 05/24/26 04:00 PM CST<br />Details:<br /><h4>Stay Tuned for Venue Information</h4>

<p>&nbsp;</p>

<p>Frisco, TX</p>

<p>Show Size:&nbsp;<strong>600 Eight Foot Tables</strong></p>

<h4>Admission Information</h4>

<p>Single Day General Admission &ndash; $10</p>

<p>Weekend Pass &ndash; $15</p>

<p>Military Discount at Gate &ndash; $9 (cash only)<br />
Children 11 and Under &ndash; Free<br />
Uniformed Peace Officers &ndash; Free</p>
<br />
<a href="https://premiergunshows.com/tickets/?show=Frisco%20Gun%20Show">BUY TICKETS</a>

<h4>Show Hours</h4>

<p>Saturday: 9:00 am &ndash; 5:00 pm</p>

<p>Sunday: 10:00 am &ndash; 4:00 pm</p>

<h4>Parking Information</h4>

<p>Free Parking</p>

<h4>Directions</h4>

<p>Venue Information To Be Announced</p>
<br />Location:<br />TBD<br /><br />,  
PRIORITY:3
TRANSP:TRANSPARENT
BEGIN:VALARM
TRIGGER:-PT5M
ACTION:DISPLAY
DESCRIPTION:Reminder
END:VALARM
END:VEVENT
END:VCALENDAR
