BEGIN:VCALENDAR
VERSION:2.0
CALSCALE:GREGORIAN
METHOD:PUBLISH
PRODID://TSRA//468634
BEGIN:VEVENT
DTSTAMP:20260425T121011
VTIMEZONE:America/Chicago
DTSTART:20260926T140000Z
DTEND:20260927T210000Z
UID:468634
SUMMARY:Premier Gun Shows - The Original Fort Worth Gun Show
LOCATION:Will Rogers Center, Amon Carter Exhibit Hall, 3401 Burnett Tandy, Fort Worth, TX, 76107
DESCRIPTION:Premier Gun Shows - The Original Fort Worth Gun Show\n\n09/26/26 09:00 AM CST\n - 09/27/26 04:00 PM CST\Details:\nShow Size: 1,200 Eight-foot tables\n\nAdmission Information\n\nSingle Day General Admission – $15\nChildren 11 and Under – Free\nUniformed Peace Officers – Free\n\nBUY TICKETS\n\nShow Hours\n\nSaturday: 9:00 am – 5:00 pm\nSunday: 10:00 am – 4:00 pm\n\nParking Information\n\nFREE Parking.\n\nJust tell the parking attendant you’re coming to the Gun Show.\n\nDirections\n\nTo find the Amon G. Carter Exhibit Hall, take I-30 to Montgomery Street (exit 11), go north to Harley Street, turn right on Harley and left on Gendy to Burnett Tandy.\n\Location:\nWill Rogers Center, Amon Carter Exhibit Hall\n3401 Burnett Tandy\nFort Worth, TX 76107
X-ALT-DESC;FMTTYPE=text/html:Premier Gun Shows - The Original Fort Worth Gun Show<br /><br />09/26/26 09:00 AM CST - 09/27/26 04:00 PM CST<br />Details:<br /><p>Show Size:&nbsp;<strong>1,200 Eight-foot tables</strong></p>

<h4>Admission Information</h4>

<p>Single Day General Admission &ndash; $15<br />
Children 11 and Under &ndash; Free<br />
Uniformed Peace Officers &ndash; Free</p>
<br />
<a href="https://premiergunshows.com/tickets/?show=The%20Original%20Fort%20Worth%20Gun%20Show">BUY TICKETS</a>

<h4>Show Hours</h4>

<p>Saturday: 9:00 am &ndash; 5:00 pm<br />
Sunday: 10:00 am &ndash; 4:00 pm</p>

<h4>Parking Information</h4>

<p><strong>FREE Parking.</strong><br />
<br />
Just tell the parking attendant you&rsquo;re coming to the Gun Show.</p>

<h4>Directions</h4>

<p>To find the Amon G. Carter Exhibit Hall, take I-30 to Montgomery Street (exit 11), go north to Harley Street, turn right on Harley and left on Gendy to Burnett Tandy.</p>
<br />Location:<br />Will Rogers Center, Amon Carter Exhibit Hall<br />3401 Burnett Tandy<br />Fort Worth, TX 76107
PRIORITY:3
TRANSP:TRANSPARENT
BEGIN:VALARM
TRIGGER:-PT5M
ACTION:DISPLAY
DESCRIPTION:Reminder
END:VALARM
END:VEVENT
END:VCALENDAR
