BEGIN:VCALENDAR
VERSION:2.0
CALSCALE:GREGORIAN
METHOD:PUBLISH
PRODID://TSRA//468624
BEGIN:VEVENT
DTSTAMP:20260425T122100
VTIMEZONE:America/Chicago
DTSTART:20260221T150000Z
DTEND:20260222T230000Z
UID:468624
SUMMARY:Pioneer Gun Collectors Association - Amarillo, TX
LOCATION:Amarillo Civic Center, 401 S Buchanan St, Amarillo, TX, 79101
DESCRIPTION:Pioneer Gun Collectors Association - Amarillo, TX\n\n02/21/26 09:00 AM CST\n - 02/22/26 05:00 PM CST\Details:\nBEST GUN SHOW In The TEXAS PANHANDLE\n\nBUY     *     SELL     *     TRADE\n\nFebruary 21-22 2026  \n\nAmarillo Civic Center\n\n3rd and Buchanan\n\nGeneral Admission – $8 per day – $10 for both days  \n\nFree Admission to Children Under 13\n\nSHOW HOURS:\n\nSaturday – 9:00 A.M. – 5:00 P.M.\n\nSunday – 9:00 A.M. – 5:00 P.M.\n\n \n\Location:\nAmarillo Civic Center\n401 S Buchanan St\nAmarillo, TX 79101
X-ALT-DESC;FMTTYPE=text/html:Pioneer Gun Collectors Association - Amarillo, TX<br /><br />02/21/26 09:00 AM CST - 02/22/26 05:00 PM CST<br />Details:<br /><p><strong>BEST GUN SHOW In The TEXAS PANHANDLE</strong></p>

<p><strong>BUY &nbsp; &nbsp; * &nbsp; &nbsp; SELL &nbsp; &nbsp; * &nbsp; &nbsp; TRADE</strong></p>

<p><strong>February 21-22 2026</strong>&nbsp;&nbsp;</p>

<p><strong>Amarillo Civic Center</strong></p>

<p><strong>3rd and Buchanan</strong></p>

<p><strong>General Admission &ndash; $8 per day &ndash; $10 for both days&nbsp;&nbsp;</strong></p>

<p><strong>Free Admission to Children Under 13</strong></p>

<p><strong>SHOW HOURS:</strong></p>

<p><strong>Saturday &ndash; 9:00 A.M. &ndash; 5:00 P.M.</strong></p>

<p><strong>Sunday &ndash; 9:00 A.M. &ndash; 5:00 P.M.</strong></p>

<p>&nbsp;</p>
<br />Location:<br />Amarillo Civic Center<br />401 S Buchanan St<br />Amarillo, TX 79101
PRIORITY:3
TRANSP:TRANSPARENT
BEGIN:VALARM
TRIGGER:-PT5M
ACTION:DISPLAY
DESCRIPTION:Reminder
END:VALARM
END:VEVENT
END:VCALENDAR
